BEGIN:VCALENDAR
VERSION:2.0
PRODID:-//Charity Football | Celeb FC - ECPv6.15.20//NONSGML v1.0//EN
CALSCALE:GREGORIAN
METHOD:PUBLISH
X-ORIGINAL-URL:https://celebfc.co.uk
X-WR-CALDESC:Events for Charity Football | Celeb FC
REFRESH-INTERVAL;VALUE=DURATION:PT1H
X-Robots-Tag:noindex
X-PUBLISHED-TTL:PT1H
BEGIN:VTIMEZONE
TZID:UTC
BEGIN:STANDARD
TZOFFSETFROM:+0000
TZOFFSETTO:+0000
TZNAME:UTC
DTSTART:20210101T000000
END:STANDARD
END:VTIMEZONE
BEGIN:VEVENT
DTSTART;TZID=UTC:20220924T080000
DTEND;TZID=UTC:20220924T170000
DTSTAMP:20260422T131425
CREATED:20220420T150738Z
LAST-MODIFIED:20220420T151018Z
UID:5510-1664006400-1664038800@celebfc.co.uk
SUMMARY:HollyHedge 30 year Anniversary Gala
DESCRIPTION:WHEN:\n24th September 2022 @ 19:00 – 25th September 2022 @ 01:00 \n\nWHERE:\n\nMercure Bristol Grand Hotel\nBroad St\nBristol BS1 2EL\nUK\n\nCOST:\n£50
URL:https://celebfc.co.uk/event/hollyhedge-30-year-anniversary-gala/
LOCATION:Mercure Bristol\, Broad Street\, Bristol\, BS1 2EL\, United Kingdom
CATEGORIES:2022,Gala,Holly Hedge
ATTACH;FMTTYPE=image/jpeg:https://celebfc.co.uk/wp-content/uploads/2022/04/Capture.jpg
ORGANIZER;CN="Holly Hedge":MAILTO:HollyHedge30thBall@gmail.com
END:VEVENT
END:VCALENDAR