BEGIN:VCALENDAR
VERSION:2.0
PRODID:-//Charity Football | Celeb FC - ECPv6.15.20//NONSGML v1.0//EN
CALSCALE:GREGORIAN
METHOD:PUBLISH
X-WR-CALNAME:Charity Football | Celeb FC
X-ORIGINAL-URL:https://celebfc.co.uk
X-WR-CALDESC:Events for Charity Football | Celeb FC
REFRESH-INTERVAL;VALUE=DURATION:PT1H
X-Robots-Tag:noindex
X-PUBLISHED-TTL:PT1H
BEGIN:VTIMEZONE
TZID:UTC
BEGIN:STANDARD
TZOFFSETFROM:+0000
TZOFFSETTO:+0000
TZNAME:UTC
DTSTART:20210101T000000
END:STANDARD
END:VTIMEZONE
BEGIN:VEVENT
DTSTART;TZID=UTC:20220821T130000
DTEND;TZID=UTC:20220821T170000
DTSTAMP:20260422T145729
CREATED:20220420T143331Z
LAST-MODIFIED:20220420T143838Z
UID:5500-1661086800-1661101200@celebfc.co.uk
SUMMARY:Fundraising Football for the Ipswich Hospital Baby Bereavement
DESCRIPTION:Taking place in the Ipswich IP3 area. \nMore information – Coming soon
URL:https://celebfc.co.uk/event/fundraising-football-for-the-ipswich-hospital-baby-bereavement/
LOCATION:Surrey
CATEGORIES:2022,Charity Football,Charity Football Match,Ipswich
ATTACH;FMTTYPE=image/jpeg:https://celebfc.co.uk/wp-content/uploads/2022/04/evnt-DETAILS-COVER.jpg
END:VEVENT
END:VCALENDAR