BEGIN:VCALENDAR
VERSION:2.0
PRODID:-//Charity Football | Celeb FC - ECPv6.15.20//NONSGML v1.0//EN
CALSCALE:GREGORIAN
METHOD:PUBLISH
X-WR-CALNAME:Charity Football | Celeb FC
X-ORIGINAL-URL:https://celebfc.co.uk
X-WR-CALDESC:Events for Charity Football | Celeb FC
REFRESH-INTERVAL;VALUE=DURATION:PT1H
X-Robots-Tag:noindex
X-PUBLISHED-TTL:PT1H
BEGIN:VTIMEZONE
TZID:UTC
BEGIN:STANDARD
TZOFFSETFROM:+0000
TZOFFSETTO:+0000
TZNAME:UTC
DTSTART:20210101T000000
END:STANDARD
END:VTIMEZONE
BEGIN:VEVENT
DTSTART;VALUE=DATE:20220703
DTEND;VALUE=DATE:20220704
DTSTAMP:20260422T164858
CREATED:20220114T131448Z
LAST-MODIFIED:20220620T145804Z
UID:5362-1656806400-1656892799@celebfc.co.uk
SUMMARY:FUNDRAISING FOOTBALL AT WELFORD FC
DESCRIPTION:Welford Victoria FC’s fundraising funday on Sunday July 3rd is raising money for three amazing charities: Hope Against Cancer\, PSC Support and the Bradley Lowery Foundation. \nRaising £1000 at their last event has left them wanting to do even more. So this year sees Celeb FC coming on board\, to bring our own brand of Charity Football to the event. \nAs well as the match against Celeb FC\, there will be entertainment\, food\, activities\, bouncy castles and a pop-up gin bar by Hinckley’s award-winning Bond Street Distillery. \n“These charities are all close to our hearts”\, explained club chairman Barrie Dowsett\, “so we’re desperate to raise as much money for them as we possibly can.  we are trying to be a little different here: we don’t define our success by the number of games we win\, but by the contribution we make to our local community. Fundraising is obviously a part of that\, but sport and exercise have a huge positive impact on people and we shouldn’t underestimate the benefits they bring too. It’d be far less effort for us and for our sponsor if they just wrote a cheque to the charities\, but then all the people who we expect to come along and really enjoy our event would miss out on everything we have lined up for them” \nAdam Green\, club vice-chairman and manager of Welford Victoria’s Sunday team\, extended his thanks to Market Harborough-based R&D tax credit consultants Myriad Associates\, who are covering the event’s running costs and enabling the charities to benefit as much as possible. “We’re extremely grateful to Myriad Associates for their generosity in sponsoring this event\, as well as many of the other things we do. It never ceases to amaze us how much they’re prepared to support everything the football club does. Similarly\, we’re thrilled to have Bond Street Distillery running our bar for us\, bringing some of their amazing gins to entertain the adults while the children enjoy all the activities.” \nKarin Flower\, Founder of Celeb FC said ” Its so great for us to be able to travel to amazing events like this. Supporting charities & community groups who resonate with us as a team & the teammates within it. We are truly hopeful this years target of £1000 will be toppled spectacularly”. \nTo fin out more about this event – join the event online at Welford Fundraising Event Facebook Page \nThis event is going to be a huge local charity extravaganza that includes a BBQ\, Bar\, Bouncy Castle\, Inflatable Obstacle Course\, Local Stalls\, Local Musicians & so much more \nWelford FC will also be presenting their end of season awards presentations.
URL:https://celebfc.co.uk/event/fundraising-football-at-welford-fc/
LOCATION:Welford FC\, Northampton
CATEGORIES:2022,Charity Football,Charity Football Match,Fundraiser
ATTACH;FMTTYPE=image/jpeg:https://celebfc.co.uk/wp-content/uploads/2022/01/A5-Welford-July-3rd-scaled.jpg
END:VEVENT
BEGIN:VEVENT
DTSTART;TZID=UTC:20220717T080000
DTEND;TZID=UTC:20220717T170000
DTSTAMP:20260422T164858
CREATED:20220123T223147Z
LAST-MODIFIED:20220420T153014Z
UID:5368-1658044800-1658077200@celebfc.co.uk
SUMMARY:FUNDRAISING FOOTBALL - TEIGAN SMILES (TBC)
DESCRIPTION:Mildenhall Town FC – Bury Saint Edmunds\, IP28 7HG (Teigan Smiles Charity Rematch)
URL:https://celebfc.co.uk/event/fundraising-football-teigan-smiles-tbc/
LOCATION:Mildenhall Town FC\, Recreation Way\, Suffolk\, Mildenhall\, IP28 7HG\, United Kingdom
CATEGORIES:2022,Charity Football,Charity Football Match,Fundraiser
ATTACH;FMTTYPE=image/jpeg:https://celebfc.co.uk/wp-content/uploads/2022/01/GENERIC-EVENT-COVER-2-1.jpg
END:VEVENT
END:VCALENDAR