BEGIN:VCALENDAR
VERSION:2.0
PRODID:-//Charity Football | Celeb FC - ECPv6.15.20//NONSGML v1.0//EN
CALSCALE:GREGORIAN
METHOD:PUBLISH
X-WR-CALNAME:Charity Football | Celeb FC
X-ORIGINAL-URL:https://celebfc.co.uk
X-WR-CALDESC:Events for Charity Football | Celeb FC
REFRESH-INTERVAL;VALUE=DURATION:PT1H
X-Robots-Tag:noindex
X-PUBLISHED-TTL:PT1H
BEGIN:VTIMEZONE
TZID:UTC
BEGIN:STANDARD
TZOFFSETFROM:+0000
TZOFFSETTO:+0000
TZNAME:UTC
DTSTART:20210101T000000
END:STANDARD
END:VTIMEZONE
BEGIN:VEVENT
DTSTART;TZID=UTC:20220618T110000
DTEND;TZID=UTC:20220618T170000
DTSTAMP:20260422T182939
CREATED:20220516T143106Z
LAST-MODIFIED:20220523T135907Z
UID:5525-1655550000-1655571600@celebfc.co.uk
SUMMARY:Fundraising Football at Tooting & Mitcham with the NHS & Co Op FuneralCare
DESCRIPTION:Coop Funeral Care South London will be joining staff from St Helier Hospital in a sponsored football match and Family Funday on Saturday June 18th. \nThis event will bring together support staff from the ICTS security team at St Helier Hospital and the Funeral Service Crew. \nThe event will take place from 11am – 4pm at Tooting and Mitcham Football Ground\, Imperial Sports Ground\, Bishopsford Rd\, Morden SM4 6BF \nOn the day there will be lots of fun stalls\, inflatables\, licenced bar\, food and drinks. \nAll monies raised will be split between the two chosen charities. \nSt Helier Hospital have chosen the Neonatal unit\, which Celeb FC have raised funds for in the past \, It is a non-profit support network providing emergency care for newborn and premature babies. \nCoop Funeralcare are supporting MIND who provide advice and support to empower anyone experiencing a mental health problems. \nOur teammates are being loaned as players to the two teams taking part on the day (More info Coming soon). \nIf you want to help support this amazing day – make sure you come along – its going to be epic! \n \n 
URL:https://celebfc.co.uk/event/fundraising-football-at-tooting-mitcham-with-the-nhs-co-op-funeralcare/
LOCATION:Tooting & Mitcham FC\, Imperial Sports Ground\, Surrey\, Bishopsford Road\, SM4 6BF
CATEGORIES:2022,Charity Football,Charity Football Match,NHS
ATTACH;FMTTYPE=image/jpeg:https://celebfc.co.uk/wp-content/uploads/2022/05/june-18TH-nhs-EVENT-COVER.jpg
END:VEVENT
BEGIN:VEVENT
DTSTART;TZID=UTC:20220625T120000
DTEND;TZID=UTC:20220625T173000
DTSTAMP:20260422T182939
CREATED:20220103T151108Z
LAST-MODIFIED:20220309T115248Z
UID:5340-1656158400-1656178200@celebfc.co.uk
SUMMARY:THE ST HELIER MUSIC & COMMUNITY FESTIVAL
DESCRIPTION:The St Helier Festival is an annual event usually held in June to support\, promote & facilitate community cohesion in the London Borough of Sutton. The Festival has become an important event in the St Helier Community calendar which brings the community together\, without charge for attendees. \nOur policy of making this event free for all to attend\, allows us to ensure the emphasis is on providing a day which is available for everyone to enjoy. \nCeleb FC have supported this event for the last 5 years & plan to do so into the foreseeable future. \n \nFind out more at www.SHMACF.co.uk \n 
URL:https://celebfc.co.uk/event/the-st-helier-music-community-festival-4/
LOCATION:David Weir leisure Centre
CATEGORIES:2022,Fun Day,Fundraiser,SHMACF,Sutton
ATTACH;FMTTYPE=image/jpeg:https://celebfc.co.uk/wp-content/uploads/2022/01/facebook-header.jpg
END:VEVENT
END:VCALENDAR