BEGIN:VCALENDAR
VERSION:2.0
PRODID:-//Charity Football | Celeb FC - ECPv6.15.20//NONSGML v1.0//EN
CALSCALE:GREGORIAN
METHOD:PUBLISH
X-WR-CALNAME:Charity Football | Celeb FC
X-ORIGINAL-URL:https://celebfc.co.uk
X-WR-CALDESC:Events for Charity Football | Celeb FC
REFRESH-INTERVAL;VALUE=DURATION:PT1H
X-Robots-Tag:noindex
X-PUBLISHED-TTL:PT1H
BEGIN:VTIMEZONE
TZID:UTC
BEGIN:STANDARD
TZOFFSETFROM:+0000
TZOFFSETTO:+0000
TZNAME:UTC
DTSTART:20210101T000000
END:STANDARD
END:VTIMEZONE
BEGIN:VEVENT
DTSTART;VALUE=DATE:20220515
DTEND;VALUE=DATE:20220516
DTSTAMP:20260422T194848
CREATED:20220113T135734Z
LAST-MODIFIED:20220405T132332Z
UID:5358-1652572800-1652659199@celebfc.co.uk
SUMMARY:FUNDRAISING FOOTBALL AT WYCOMBE WANDERERS FC
DESCRIPTION:Fundraising for Macmillan Cancer Support\nGreen Machine Buckinghamshire\nVs\nCeleb fc\n\nKick off 1230\n\nAdams Park\, Wycombe FC\n\nGates open at 1030 (there’s a kids game before the main event)\n\nEntry is\nAdults-£5\nU17-£2\nU10-free\nMore info Coming Soon.
URL:https://celebfc.co.uk/event/wycombe/
LOCATION:Wycombe Wanderers FC
CATEGORIES:2022,Charity Football,Charity Football Match,Fun Day,Fundraiser
ATTACH;FMTTYPE=image/jpeg:https://celebfc.co.uk/wp-content/uploads/2022/01/Wycombe-Event-Cover-Idea-1.jpg
END:VEVENT
END:VCALENDAR