BEGIN:VCALENDAR
VERSION:2.0
PRODID:-//Charity Football | Celeb FC - ECPv6.15.20//NONSGML v1.0//EN
CALSCALE:GREGORIAN
METHOD:PUBLISH
X-WR-CALNAME:Charity Football | Celeb FC
X-ORIGINAL-URL:https://celebfc.co.uk
X-WR-CALDESC:Events for Charity Football | Celeb FC
REFRESH-INTERVAL;VALUE=DURATION:PT1H
X-Robots-Tag:noindex
X-PUBLISHED-TTL:PT1H
BEGIN:VTIMEZONE
TZID:UTC
BEGIN:STANDARD
TZOFFSETFROM:+0000
TZOFFSETTO:+0000
TZNAME:UTC
DTSTART:20210101T000000
END:STANDARD
END:VTIMEZONE
BEGIN:VEVENT
DTSTART;TZID=UTC:20220415T150000
DTEND;TZID=UTC:20220415T170000
DTSTAMP:20260422T211118
CREATED:20220405T132745Z
LAST-MODIFIED:20220405T132745Z
UID:5485-1650034800-1650042000@celebfc.co.uk
SUMMARY:Childrens FREE Easter Fun Hunt
DESCRIPTION:Fun event for local children in Sutton Surrey\, Supported by Celeb FC & our Sponsors / Teammates \nEggs for every entrant. (Thank you Sutton Lib Dems & Unity All Stars for donating) \nWheelchair Friendly (thanks to our sponsors www.lifeforceSupport.co.uk ) \n 
URL:https://celebfc.co.uk/event/childrens-free-easter-fun-hunt/
LOCATION:David Weir leisure Centre
CATEGORIES:2022,Easter
ATTACH;FMTTYPE=image/jpeg:https://celebfc.co.uk/wp-content/uploads/2022/04/EEH-Final-Event-Cover.jpg
END:VEVENT
END:VCALENDAR