BEGIN:VCALENDAR
VERSION:2.0
PRODID:-//Charity Football | Celeb FC - ECPv6.15.20//NONSGML v1.0//EN
CALSCALE:GREGORIAN
METHOD:PUBLISH
X-ORIGINAL-URL:https://celebfc.co.uk
X-WR-CALDESC:Events for Charity Football | Celeb FC
REFRESH-INTERVAL;VALUE=DURATION:PT1H
X-Robots-Tag:noindex
X-PUBLISHED-TTL:PT1H
BEGIN:VTIMEZONE
TZID:UTC
BEGIN:STANDARD
TZOFFSETFROM:+0000
TZOFFSETTO:+0000
TZNAME:UTC
DTSTART:20200101T000000
END:STANDARD
END:VTIMEZONE
BEGIN:VEVENT
DTSTART;TZID=UTC:20211030T170000
DTEND;TZID=UTC:20211030T193000
DTSTAMP:20260423T065735
CREATED:20211011T150756Z
LAST-MODIFIED:20211011T150756Z
UID:5206-1635613200-1635622200@celebfc.co.uk
SUMMARY:The Halloween Fundraising "Torch Walk"
DESCRIPTION:More Info Coming soon!\nJust make sure you buy an outfit soon! \n \n 
URL:https://celebfc.co.uk/event/the-halloween-fundraising-torch-walk/
LOCATION:Beddington Park
CATEGORIES:2021,Fundraiser,Halloween
END:VEVENT
END:VCALENDAR