BEGIN:VCALENDAR
VERSION:2.0
PRODID:-//Charity Football | Celeb FC - ECPv6.15.20//NONSGML v1.0//EN
CALSCALE:GREGORIAN
METHOD:PUBLISH
X-WR-CALNAME:Charity Football | Celeb FC
X-ORIGINAL-URL:https://celebfc.co.uk
X-WR-CALDESC:Events for Charity Football | Celeb FC
REFRESH-INTERVAL;VALUE=DURATION:PT1H
X-Robots-Tag:noindex
X-PUBLISHED-TTL:PT1H
BEGIN:VTIMEZONE
TZID:UTC
BEGIN:STANDARD
TZOFFSETFROM:+0000
TZOFFSETTO:+0000
TZNAME:UTC
DTSTART:20190101T000000
END:STANDARD
END:VTIMEZONE
BEGIN:VEVENT
DTSTART;TZID=UTC:20200823T120000
DTEND;TZID=UTC:20200823T233000
DTSTAMP:20260424T032914
CREATED:20200227T164407Z
LAST-MODIFIED:20200504T124646Z
UID:4690-1598184000-1598225400@celebfc.co.uk
SUMMARY:POSTPONED - CHARITY FOOTBALL - Teigans Smiles
DESCRIPTION:More info Coming soon on this amazing Charity Football event.
URL:https://celebfc.co.uk/event/teigans-smiles-charityfootball/
LOCATION:AFC Sudbury\, Suffolk
CATEGORIES:2020,cancellation,Charity Football,Charity Football Match,Coronavirus
END:VEVENT
END:VCALENDAR