BEGIN:VCALENDAR
VERSION:2.0
PRODID:-//Charity Football | Celeb FC - ECPv6.15.20//NONSGML v1.0//EN
CALSCALE:GREGORIAN
METHOD:PUBLISH
X-WR-CALNAME:Charity Football | Celeb FC
X-ORIGINAL-URL:https://celebfc.co.uk
X-WR-CALDESC:Events for Charity Football | Celeb FC
REFRESH-INTERVAL;VALUE=DURATION:PT1H
X-Robots-Tag:noindex
X-PUBLISHED-TTL:PT1H
BEGIN:VTIMEZONE
TZID:UTC
BEGIN:STANDARD
TZOFFSETFROM:+0000
TZOFFSETTO:+0000
TZNAME:UTC
DTSTART:20190101T000000
END:STANDARD
END:VTIMEZONE
BEGIN:VEVENT
DTSTART;TZID=UTC:20200710T120000
DTEND;TZID=UTC:20200710T203000
DTSTAMP:20260424T044814
CREATED:20200504T130408Z
LAST-MODIFIED:20200504T130439Z
UID:4830-1594382400-1594413000@celebfc.co.uk
SUMMARY:POSTPONED - CHARITY GOLF - Power of Parenting Children's Charity
DESCRIPTION:POP Children’s Charity aims to provide financial and moral support to fostered and adopted children\, helping them fulfil their academic and sporting ambitions and giving them greater opportunity to achieve their own personal goals later in life. \nCeleb FC are aiming to enter a Celeb team in order to assist in Fundraising for this event
URL:https://celebfc.co.uk/event/charity-golf-power-of-parenting-childrens-charity/
LOCATION:Mill Ride Golf Club\, Ascot\, Berkshire\, SL5 8LT\, United Kingdom
CATEGORIES:2020,cancellation,Charity Golf,Coronavirus
END:VEVENT
BEGIN:VEVENT
DTSTART;TZID=UTC:20200719T123000
DTEND;TZID=UTC:20200719T210000
DTSTAMP:20260424T044814
CREATED:20200227T163606Z
LAST-MODIFIED:20200504T125010Z
UID:4688-1595161800-1595192400@celebfc.co.uk
SUMMARY:POSTPONED - CHARITY FOOTBALL - Chard\, Somerset
DESCRIPTION:More info Coming Soon
URL:https://celebfc.co.uk/event/charity-football-grassroots-fundraising-in-somerset/
LOCATION:Surrey
CATEGORIES:2020,cancellation,Charity Football,Charity Football Match,Coronavirus
ORGANIZER;CN="Celeb FC":MAILTO:info@CelebFC.co.uk
END:VEVENT
END:VCALENDAR