BEGIN:VCALENDAR
VERSION:2.0
PRODID:-//Charity Football | Celeb FC - ECPv6.15.20//NONSGML v1.0//EN
CALSCALE:GREGORIAN
METHOD:PUBLISH
X-ORIGINAL-URL:https://celebfc.co.uk
X-WR-CALDESC:Events for Charity Football | Celeb FC
REFRESH-INTERVAL;VALUE=DURATION:PT1H
X-Robots-Tag:noindex
X-PUBLISHED-TTL:PT1H
BEGIN:VTIMEZONE
TZID:UTC
BEGIN:STANDARD
TZOFFSETFROM:+0000
TZOFFSETTO:+0000
TZNAME:UTC
DTSTART:20190101T000000
END:STANDARD
END:VTIMEZONE
BEGIN:VEVENT
DTSTART;TZID=UTC:20200507T193000
DTEND;TZID=UTC:20200507T233000
DTSTAMP:20260424T072638
CREATED:20200107T180418Z
LAST-MODIFIED:20200504T124823Z
UID:4478-1588879800-1588894200@celebfc.co.uk
SUMMARY:POSTPONED - CHARITY GALA - Sutton Women's Centre
DESCRIPTION:
URL:https://celebfc.co.uk/event/the-sutton-womens-centre-charity-gala/
LOCATION:The Grange\, Beddington park\, Hackbridge\, Wallington\, SM6 4BT\, United Kingdom
CATEGORIES:2020,cancellation,Coronavirus
END:VEVENT
END:VCALENDAR