BEGIN:VCALENDAR
VERSION:2.0
PRODID:-//Charity Football | Celeb FC - ECPv6.15.20//NONSGML v1.0//EN
CALSCALE:GREGORIAN
METHOD:PUBLISH
X-WR-CALNAME:Charity Football | Celeb FC
X-ORIGINAL-URL:https://celebfc.co.uk
X-WR-CALDESC:Events for Charity Football | Celeb FC
REFRESH-INTERVAL;VALUE=DURATION:PT1H
X-Robots-Tag:noindex
X-PUBLISHED-TTL:PT1H
BEGIN:VTIMEZONE
TZID:UTC
BEGIN:STANDARD
TZOFFSETFROM:+0000
TZOFFSETTO:+0000
TZNAME:UTC
DTSTART:20190101T000000
END:STANDARD
END:VTIMEZONE
BEGIN:VEVENT
DTSTART;TZID=UTC:20200405T120000
DTEND;TZID=UTC:20200405T170000
DTSTAMP:20260424T084517
CREATED:20200227T155532Z
LAST-MODIFIED:20200318T105053Z
UID:4677-1586088000-1586106000@celebfc.co.uk
SUMMARY:CANCELLED - EASTER EVENT
DESCRIPTION:The Hill House easter Extravaganza – Fun & Games for all event. \nProviding easter Fun for Children in the local area (Sutton\, Surrey) to enjoy FOC.
URL:https://celebfc.co.uk/event/hill-house-community-easter-event/
LOCATION:Hill House Community Centre\, Bishopsford Road\, Carshalton\, SM4 6BL\, United Kingdom
CATEGORIES:2020
END:VEVENT
BEGIN:VEVENT
DTSTART;VALUE=DATE:20200426
DTEND;VALUE=DATE:20200427
DTSTAMP:20260424T084517
CREATED:20190912T112933Z
LAST-MODIFIED:20200322T131213Z
UID:4269-1587859200-1587945599@celebfc.co.uk
SUMMARY:CANCELLED- Charity Football for Williams Syndrome
DESCRIPTION:Sunday April 26th at Crowborough Athletic in Sussex. \nCeleb FC v Dylan’s Dynamo’s \nCANCELLED due to Coronavirus Advice  \nFundraising for Williams Syndrome UK (Click for info)
URL:https://celebfc.co.uk/event/sussex-charity-football-for-williams-syndrome/
LOCATION:Crowborough Athletic FC\, Alderbrook Close\, Crowborough\, Sussex\, TN6 3BU
CATEGORIES:2020,Charity Football Match,Coronavirus,Williams Syndrome
ORGANIZER;CN="Celeb FC":MAILTO:info@CelebFC.co.uk
END:VEVENT
END:VCALENDAR