BEGIN:VCALENDAR
VERSION:2.0
PRODID:-//Charity Football | Celeb FC - ECPv6.15.20//NONSGML v1.0//EN
CALSCALE:GREGORIAN
METHOD:PUBLISH
X-ORIGINAL-URL:https://celebfc.co.uk
X-WR-CALDESC:Events for Charity Football | Celeb FC
REFRESH-INTERVAL;VALUE=DURATION:PT1H
X-Robots-Tag:noindex
X-PUBLISHED-TTL:PT1H
BEGIN:VTIMEZONE
TZID:UTC
BEGIN:STANDARD
TZOFFSETFROM:+0000
TZOFFSETTO:+0000
TZNAME:UTC
DTSTART:20180101T000000
END:STANDARD
END:VTIMEZONE
BEGIN:VEVENT
DTSTART;VALUE=DATE:20190901
DTEND;VALUE=DATE:20190902
DTSTAMP:20260424T184316
CREATED:20190201T161911Z
LAST-MODIFIED:20190829T105429Z
UID:3695-1567296000-1567382399@celebfc.co.uk
SUMMARY:Charity Football Match - #SEAFORDCELEBFC
DESCRIPTION:Lookalikes from the world of Film\, TV & Sport are taking part in Huge Sussex Charity Football event – Click here for Facebook Event Page  \n#TEAMLOOKALIKES\, managed by Sussex personality\, SIMON COWELL Lookalike Andy Penfold\, will have over a dozen famous faces at Seaford FC on Sunday Sept 1st.\nThe team are a group who support small charities\, community groups & non-profits throughout the UK with fundraising as part of the #CelebFCFamily. \nThe event at Seaford Town this weekend is supporting the Teenage Cancer Trust\, Rainy Days Trust\, Variety Children’s Charity & Seaford based WOLO Foundation. \nAppearing on the day \nSimon Cowell aka Andy Penfold\nMrs Brown aka Steve Crowhurst\nKate Moss\, aka Denise Ohnona\nPamela Anderson aka Deborah Barley\nPrince Harry aka Rhys Whittock\nGeorge Best aka Mark O’Hare\nDavid Beckham aka Andy Harmer\nJason Statham aka Barry Jude\nRobbie Williams aka Tony Lewis\nHarry Hill aka Craig Wilcock\nRory McIlroy aka Damien Power\nTy aka Kylian Mbappe\nSam Allardyce aka Steve Wallbank\nJames Corden aka Grant Bell\nSuzie Kennedy aka Marilyn Monroe\nDanny Mcloughlin aka Harry Kane \nOpening at midday\, there will be live music from local band Rough Justice with special performances from Celeb FC teammates Craig Harvey & Wayne Woodward (BGT) throughout the day. It will be a fun-filled event with food\, entertainment\, lucky program prizes & of course great football! \nA Photobooth will be on site (donated for the day\, by Celeb FC sponsors Taylored Events) for attendees to capture their fun moments. \nGeorge Best Lookalike Mark O’Hare said “It’s great to be a part of #TeamLookalikes as we get to support some amazing events. It also gives me a chance to catch up with my friends in the industry as I travel over from Ireland”. \nSimon Cowell Lookalike & Manager of #TeamLookalikes\, Andy Penfold added “I am very proud to be the team manager of a great group of people who travel from all over the country. This event is particularly important to me as I live & work in Sussex\, so the opportunity to gather all my friends & colleagues for 4 great causes\, is fantastic”. \nKarin Flower\, Founder of Celeb FC said\, “We are utterly delighted to have been instrumental in creating an event in this beautiful corner of Sussex.. Celeb FC owe a great deal of thanks to many people connected to this event – The Celebs & Lookalikes who support us voluntarily\, the venue – Seaford FC\, the local businesses especially Chandlers Building Supplies & the press – but it all relies on attendees on the day. So please come along”. \nTickets are available on the gate from 11am\, costing just £3 for Adults and £2 for children. \nSocial media: – #SEAFORDCELEBFC
URL:https://celebfc.co.uk/event/seafordcelebfc/
LOCATION:Seaford FC\, Bamber Lane\, Seaford\, East Sussex\, BN25 1AF
CATEGORIES:2019,Brighton,Chandlers,Charity Football,Charity Football Match,Fun Day,Fundraiser,Seaford,Sponsor
END:VEVENT
BEGIN:VEVENT
DTSTART;VALUE=DATE:20190915
DTEND;VALUE=DATE:20190916
DTSTAMP:20260424T184316
CREATED:20190201T162110Z
LAST-MODIFIED:20190731T172230Z
UID:3697-1568505600-1568591999@celebfc.co.uk
SUMMARY:CANCELLED - Charity Football at Cheam Celebration of Food
DESCRIPTION:Sadly Cancelled. \nCANCELLED – MAY BE HAPPENING 2020
URL:https://celebfc.co.uk/event/7-a-side-charity-football-for-sutton-little-league/
LOCATION:Surrey
CATEGORIES:2019,Charity Football,Charity Football Match,Fun Day,Fundraiser,Sutton
END:VEVENT
BEGIN:VEVENT
DTSTART;TZID=UTC:20190928T190000
DTEND;TZID=UTC:20190928T233000
DTSTAMP:20260424T184316
CREATED:20190731T172700Z
LAST-MODIFIED:20190731T172700Z
UID:4151-1569697200-1569713400@celebfc.co.uk
SUMMARY:ALEX SKEEL CHARITY GALA
DESCRIPTION:Raffle\, Disco\, Live Auction\, Music\, Buffet \nSmart Dress\, Strictly Over 18’s \nBook Now 07701052845
URL:https://celebfc.co.uk/event/alex-skeel-charity-gala/
LOCATION:Bedford International Athletics Stadium\, Barkers Lane\, Bedford\, MK41 9SB\, United Kingdom
CATEGORIES:2019,Bedford,Charity Ball,Gala
END:VEVENT
END:VCALENDAR