BEGIN:VCALENDAR
VERSION:2.0
PRODID:-//Charity Football | Celeb FC - ECPv6.15.20//NONSGML v1.0//EN
CALSCALE:GREGORIAN
METHOD:PUBLISH
X-ORIGINAL-URL:https://celebfc.co.uk
X-WR-CALDESC:Events for Charity Football | Celeb FC
REFRESH-INTERVAL;VALUE=DURATION:PT1H
X-Robots-Tag:noindex
X-PUBLISHED-TTL:PT1H
BEGIN:VTIMEZONE
TZID:UTC
BEGIN:STANDARD
TZOFFSETFROM:+0000
TZOFFSETTO:+0000
TZNAME:UTC
DTSTART:20180101T000000
END:STANDARD
END:VTIMEZONE
BEGIN:VEVENT
DTSTART;VALUE=DATE:20190804
DTEND;VALUE=DATE:20190805
DTSTAMP:20260424T201545
CREATED:20190201T162826Z
LAST-MODIFIED:20190409T185311Z
UID:3699-1564876800-1564963199@celebfc.co.uk
SUMMARY:Rematch - Phoenix FC (formerly Rochester Royal Mail) v Celeb FC
DESCRIPTION:Playing a huge REMATCH (Rochester Royal mail team) who are now Phoenix FC. \nFundraising for the Molly McLaren Foundation \n  \n  \n 
URL:https://celebfc.co.uk/event/rematch-kent/
LOCATION:Maidstone FC
CATEGORIES:2019,Charity Football,Charity Football Match,Fun Day,Royal Mail
ORGANIZER;CN="Celeb FC":MAILTO:info@CelebFC.co.uk
END:VEVENT
END:VCALENDAR