BEGIN:VCALENDAR
VERSION:2.0
PRODID:-//Charity Football | Celeb FC - ECPv6.15.20//NONSGML v1.0//EN
CALSCALE:GREGORIAN
METHOD:PUBLISH
X-WR-CALNAME:Charity Football | Celeb FC
X-ORIGINAL-URL:https://celebfc.co.uk
X-WR-CALDESC:Events for Charity Football | Celeb FC
REFRESH-INTERVAL;VALUE=DURATION:PT1H
X-Robots-Tag:noindex
X-PUBLISHED-TTL:PT1H
BEGIN:VTIMEZONE
TZID:UTC
BEGIN:STANDARD
TZOFFSETFROM:+0000
TZOFFSETTO:+0000
TZNAME:UTC
DTSTART:20180101T000000
END:STANDARD
END:VTIMEZONE
BEGIN:VEVENT
DTSTART;TZID=UTC:20190609T130000
DTEND;TZID=UTC:20190609T190000
DTSTAMP:20260424T225922
CREATED:20181107T115848Z
LAST-MODIFIED:20190311T120230Z
UID:3564-1560085200-1560106800@celebfc.co.uk
SUMMARY:Celeb FC v BPRTigersXi
DESCRIPTION:Celeb FC will be playing in June for the MANKIND INITIATIVE. \n \nWe will be facing a team\, once again managed / captained by the amazing ALEX SKEEL
URL:https://celebfc.co.uk/event/celeb-fc-v-bprtigersxi/
LOCATION:Bedford Athletic Rugby Club\, Wentworth Drive\, Bedford\, MK41 8QA\, United Kingdom
CATEGORIES:2019,Charity Football
ORGANIZER;CN="Celeb FC":MAILTO:info@CelebFC.co.uk
END:VEVENT
BEGIN:VEVENT
DTSTART;VALUE=DATE:20190622
DTEND;VALUE=DATE:20190623
DTSTAMP:20260424T225922
CREATED:20190116T184354Z
LAST-MODIFIED:20190311T120104Z
UID:3654-1561161600-1561247999@celebfc.co.uk
SUMMARY:The St Helier Music & Community Festival
DESCRIPTION:#SHMACF2019 will be held on June 22nd. \nPlease find lots of information on the website \n \nwww.SHMACF.co.uk \nIncluding Booking forms.
URL:https://celebfc.co.uk/event/the-st-helier-music-community-festival-2/
LOCATION:Sutton
CATEGORIES:2019,Fun Day,SHMACF,Sutton
END:VEVENT
BEGIN:VEVENT
DTSTART;TZID=UTC:20190624T093000
DTEND;TZID=UTC:20190624T123000
DTSTAMP:20260424T225922
CREATED:20190626T110140Z
LAST-MODIFIED:20190626T110140Z
UID:4114-1561368600-1561379400@celebfc.co.uk
SUMMARY:Care Campaign For The Vulnerable Monthly Meeting
DESCRIPTION:Celeb FC Founder Karin is on the Committee for the Care Campaign for the Vulnerable & attends the monthly meetings with  other members & Founder Jayne Connery. \nFind out more here – www.CareCampaignForTheVulnerable.com
URL:https://celebfc.co.uk/event/care-campaign-for-the-vulnerable-monthly-meeting/
LOCATION:Crowne Plaza Hotel\, Gerrards Cross\, Buckinghamshire\, United Kingdom
CATEGORIES:2019,care campaign
END:VEVENT
END:VCALENDAR