BEGIN:VCALENDAR
VERSION:2.0
PRODID:-//Charity Football | Celeb FC - ECPv6.15.20//NONSGML v1.0//EN
CALSCALE:GREGORIAN
METHOD:PUBLISH
X-ORIGINAL-URL:https://celebfc.co.uk
X-WR-CALDESC:Events for Charity Football | Celeb FC
REFRESH-INTERVAL;VALUE=DURATION:PT1H
X-Robots-Tag:noindex
X-PUBLISHED-TTL:PT1H
BEGIN:VTIMEZONE
TZID:UTC
BEGIN:STANDARD
TZOFFSETFROM:+0000
TZOFFSETTO:+0000
TZNAME:UTC
DTSTART:20180101T000000
END:STANDARD
END:VTIMEZONE
BEGIN:VEVENT
DTSTART;TZID=UTC:20190505T150000
DTEND;TZID=UTC:20190505T190000
DTSTAMP:20260425T003551
CREATED:20181206T133658Z
LAST-MODIFIED:20190425T150824Z
UID:3610-1557068400-1557082800@celebfc.co.uk
SUMMARY:Charity Football at Creasy Park main Stadium for MacMillan with Green Machine FC
DESCRIPTION:Come along to the 3pm kick off on the 5th of May at Creasey Park Dunstable.\nA great FUNdraiser costing JUST £3 a ticket (available on the day at the gate or you can contact Dan on 07710053591) \nRaising money for Macmillan Cancer Research \n \nGreen Machine FC and the event itself are sponsored by Genting Casino Luton \nCeleb FC Are sponsored by Chandlers Building Supplies\, Taylored Events\, It’s Nuts About Balloons\, British Red Bus.com\, 1v1 & Classic Sportswear\n#CharityFootball For the right reasons!\nAll Media\, PR & Website management by Rocoja Limited
URL:https://celebfc.co.uk/event/charity-football-at-creasy-park-main-stadium-for-macmillan-with-green-machine-fc/
LOCATION:Creasy Park\, 7 Creasey Park Dr\, Dunstable\, LU6 1BB\, United Kingdom
CATEGORIES:2019,Charity Football,Charity Football Match,Fun Day
ORGANIZER;CN="Celeb FC":MAILTO:info@CelebFC.co.uk
END:VEVENT
BEGIN:VEVENT
DTSTART;VALUE=DATE:20190517
DTEND;VALUE=DATE:20190518
DTSTAMP:20260425T003551
CREATED:20190425T151801Z
LAST-MODIFIED:20190425T151801Z
UID:3909-1558051200-1558137599@celebfc.co.uk
SUMMARY:The Inspiration In Care Awards 2019
DESCRIPTION:Care Campaign For The Vulnerable will be hosting a special Inspirational Care Awards and dinner evening all in aid of celebrating all that’s great in the care sector. \nHosted by Celeb FC’s Rob Lamarr & attended by Celeb FC Founder & Care Campaign Committee member Karin. \n \n 
URL:https://celebfc.co.uk/event/the-inspiration-in-care-awards-2019/
LOCATION:Crowne Plaza Hotel\, Gerrards Cross\, Buckinghamshire\, United Kingdom
CATEGORIES:2019,Awards Night,care campaign,Gala
ORGANIZER;CN="Celeb FC":MAILTO:info@CelebFC.co.uk
END:VEVENT
BEGIN:VEVENT
DTSTART;TZID=UTC:20190517T160000
DTEND;TZID=UTC:20190517T230000
DTSTAMP:20260425T003551
CREATED:20190121T143111Z
LAST-MODIFIED:20190311T121004Z
UID:3656-1558108800-1558134000@celebfc.co.uk
SUMMARY:The Care Campaign For The Vulnerable Awards 2019
DESCRIPTION:
URL:https://celebfc.co.uk/event/the-care-campaign-for-the-vulnerable-awards-2019/
LOCATION:Crowne Plaza Hotel\, Gerrards Cross\, Buckinghamshire\, United Kingdom
CATEGORIES:2019,Awards Night
ORGANIZER;CN="Celeb FC":MAILTO:info@CelebFC.co.uk
END:VEVENT
BEGIN:VEVENT
DTSTART;TZID=UTC:20190526T173000
DTEND;TZID=UTC:20190526T233000
DTSTAMP:20260425T003551
CREATED:20181019T171734Z
LAST-MODIFIED:20190311T120721Z
UID:3504-1558891800-1558913400@celebfc.co.uk
SUMMARY:Millwall - The Den - Charity Football for Save The Children UK
DESCRIPTION:The Den\nZampa Road\nLondon\nSE16 3LN\n\nKick off is set for 7pm – 8:30pm and gates will be open from 6pm until 9:30pm.\n\nAdults – £10.00\nChildren – £5.00\nUnder 3’s – Free\n\n\n\nfor Save the children UK\n\nFC Kirton Sunday Vs Celeb FC
URL:https://celebfc.co.uk/event/millwall-the-den-charity-football-for-save-the-children-uk/
LOCATION:Millwall FC\, Zampa Road\, SE16 3LN
CATEGORIES:2019,Charity Football,Charity Football Match
ORGANIZER;CN="Celeb FC":MAILTO:info@CelebFC.co.uk
END:VEVENT
BEGIN:VEVENT
DTSTART;TZID=UTC:20190531T080000
DTEND;TZID=UTC:20190531T160000
DTSTAMP:20260425T003551
CREATED:20190413T182409Z
LAST-MODIFIED:20190413T182543Z
UID:3879-1559289600-1559318400@celebfc.co.uk
SUMMARY:Charity Golf with our Kit Sponsors Chandlers Building Supplies
DESCRIPTION:The Chandlers Building Supplies charity golf day proved so popular last year\, in 2019 they are holding 2 golf days. \nThey would be delighted if you could join them at one or even both of these days. \nIts a great day out for a trio of amazing causes. \n\n		\n		\n			\n				\n			\n			\n				\n			\n			\n				\n			\n			\n				\n			\n			\n				\n			\n			\n		\n\nTaking place on: \nFriday 31st May – Clandon Regis (Surrey) Golf Club – \nWith Celeb FC Including\nJason Burrill – Big Brother Winner 2016\nMatt Lapinskas – Easterners / Dancing on Ice\nDean McAteer – Semi-Pro Footballer\nGino Antonio – Ex on the Beach\nChris Jennings – Semi-Pro Footballer\nPaul Jones – Retired Wales International Goal Keeper \nFriday 21st June – Mid Sussex Golf Club\nPrizes to be won! \nLongest Drive\nNearest the Pin\nMillion $$ Golf Challenge!\nRaffle\nFundraising for 3 Great Charities\nThis year the charity golf days are raising funds for the 3 great charities\, the Teenage Cancer Trust\, Rainy Days Trust & Variety the Children’s charity. \n 
URL:https://celebfc.co.uk/event/charity-golf-with-our-kit-sponsors-chandlers-building-supplies/
LOCATION:Clandon Regis Golf\, Surrey
CATEGORIES:2019,Golf
END:VEVENT
END:VCALENDAR