BEGIN:VCALENDAR
VERSION:2.0
PRODID:-//Charity Football | Celeb FC - ECPv6.15.20//NONSGML v1.0//EN
CALSCALE:GREGORIAN
METHOD:PUBLISH
X-WR-CALNAME:Charity Football | Celeb FC
X-ORIGINAL-URL:https://celebfc.co.uk
X-WR-CALDESC:Events for Charity Football | Celeb FC
REFRESH-INTERVAL;VALUE=DURATION:PT1H
X-Robots-Tag:noindex
X-PUBLISHED-TTL:PT1H
BEGIN:VTIMEZONE
TZID:UTC
BEGIN:STANDARD
TZOFFSETFROM:+0000
TZOFFSETTO:+0000
TZNAME:UTC
DTSTART:20180101T000000
END:STANDARD
END:VTIMEZONE
BEGIN:VEVENT
DTSTART;TZID=UTC:20190413T080000
DTEND;TZID=UTC:20190413T170000
DTSTAMP:20260425T020425
CREATED:20190413T181349Z
LAST-MODIFIED:20190413T181349Z
UID:3872-1555142400-1555174800@celebfc.co.uk
SUMMARY:Charity Golf day with our Kit Sponsors Chandlers Building Supplies
DESCRIPTION:The Chandlers Building Supplies charity golf day proved so popular last year\, in 2019 they are holding 2 golf days. \nThey would be delighted if you could join them at one or even both of these days. \nIts a great day out for a trio of amazing causes. \nTaking place on: \nFriday 31st May – Clandon Regis (Surrey) Golf Club – \nWith Celeb FC Including\n\nJason Burrill – Big Brother Winner 2016\nMatt Lapinskas – Eastenders / Dancing on Ice\nDean McAteer – Semi-Pro Footballer\nGino Antonio – Ex on the Beach\nChris Jennings – Semi-Pro Footballer\nPaul Jones – Retired Wales International Goal Keeper\n\n  \nFriday 21st June – Mid Sussex Golf Club\nPrizes to be won! \n\nLongest Drive\nNearest the Pin\nMillion $$ Golf Challenge!\nRaffle\n\nFundraising for 3 Great Charities\nThis year our charity golf days are raising funds for the 3 great charities\, the Teenage Cancer Trust\, Rainy Days Trust & Variety the Children’s charity. \n\n		\n		\n			\n				\n			\n			\n				\n			\n			\n				\n			\n			\n				\n			\n			\n				\n			\n			\n		\n\nAs this is a fundraising event\, there is an entry fee of £30 per player. \n  \nThe entry fee includes bacon rolls & coffee\, 18 holes of golf\, and a 2 course lunch – pretty good value we reckon. \nPlus there’s the chance to win lots of highly desirable golfing items! \nIf you’d like to take part in our charity golf days please email commercial@chandlersbs.co.uk & mention Celeb FC. \nTeams are most welcome but places may be limited so first come first served.\nGet in touch today!
URL:https://celebfc.co.uk/event/charity-golf-day-with-our-kit-sponsors-chandlers-building-supplies/
LOCATION:Surrey
CATEGORIES:2019,Charity Football,Fun Day,Fundraiser,Golf
END:VEVENT
END:VCALENDAR