BEGIN:VCALENDAR
VERSION:2.0
PRODID:-//Charity Football | Celeb FC - ECPv6.15.20//NONSGML v1.0//EN
CALSCALE:GREGORIAN
METHOD:PUBLISH
X-WR-CALNAME:Charity Football | Celeb FC
X-ORIGINAL-URL:https://celebfc.co.uk
X-WR-CALDESC:Events for Charity Football | Celeb FC
REFRESH-INTERVAL;VALUE=DURATION:PT1H
X-Robots-Tag:noindex
X-PUBLISHED-TTL:PT1H
BEGIN:VTIMEZONE
TZID:UTC
BEGIN:STANDARD
TZOFFSETFROM:+0000
TZOFFSETTO:+0000
TZNAME:UTC
DTSTART:20180101T000000
END:STANDARD
END:VTIMEZONE
BEGIN:VEVENT
DTSTART;VALUE=DATE:20190322
DTEND;VALUE=DATE:20190323
DTSTAMP:20260425T033658
CREATED:20190116T184106Z
LAST-MODIFIED:20190123T142955Z
UID:3651-1553212800-1553299199@celebfc.co.uk
SUMMARY:The 2nd Annual Jason Burrill Charity Golf Day & Evening
DESCRIPTION:The 2nd Jason Burrill #Celebrity #Golf Day & evening gala dinner event is on March 22nd\, back at the beautiful East Sussex National Golf Resort & Spa Tre Amici & from Celeb FC Britain’s Got Talent Runner Up 2016 – the amazing Wayne Woodward\nFollowed by The MAIN ATTRACTION – (including Ex #CelebFC teammate #TerryColdwell ) – East 17…. \nEAST 17 have sold out their #UK tour but for this evening only will support this amazing #charity event. \nIf you would like to play in the golf day with #breakfast\, course #photographer\, presentation and then enjoy the gala evening dinner and entertainment then please contact Paul and Annette Jones on 07739250195 or email pauljonescharitygolfday@hotmail.co.uk \nBUT…. if you just want to come to the evening dinner (no golf) for a sumptuous three course dinner\, comedian comperé\, fabulous entertainment & much much more then please contact Paul and Annette Jones on 07739250195 or email pauljonescharitygolfday@hotmail.co.uk \n \nALL proceeds will go to Chestnut Tree House
URL:https://celebfc.co.uk/event/tyhe-jason-burrill-charity-golf-day-evening/
LOCATION:East Sussex National Golf & Spa\, Little Horsted\, UckField\, East Sussex\, TN22 5ES\, United Kingdom
CATEGORIES:2019,Charity Ball,Fundraiser,Gala,Golf,Sussex
ORGANIZER;CN="Annette Jones":MAILTO:pauljonescharitygolfday@hotmail.co.uk
END:VEVENT
BEGIN:VEVENT
DTSTART;VALUE=DATE:20190328
DTEND;VALUE=DATE:20190329
DTSTAMP:20260425T033658
CREATED:20190123T142624Z
LAST-MODIFIED:20190123T142624Z
UID:3662-1553731200-1553817599@celebfc.co.uk
SUMMARY:The Sutton Womens Centre Conference on DV
DESCRIPTION:Celeb FC will be attending the first ever SWC Domestic Violence Conference.
URL:https://celebfc.co.uk/event/the-sutton-womens-centre-conference-on-dv/
LOCATION:David Weir leisure Centre
CATEGORIES:2019,Conference,Sutton,SWC
END:VEVENT
END:VCALENDAR