BEGIN:VCALENDAR
VERSION:2.0
PRODID:-//Charity Football | Celeb FC - ECPv6.15.20//NONSGML v1.0//EN
CALSCALE:GREGORIAN
METHOD:PUBLISH
X-WR-CALNAME:Charity Football | Celeb FC
X-ORIGINAL-URL:https://celebfc.co.uk
X-WR-CALDESC:Events for Charity Football | Celeb FC
REFRESH-INTERVAL;VALUE=DURATION:PT1H
X-Robots-Tag:noindex
X-PUBLISHED-TTL:PT1H
BEGIN:VTIMEZONE
TZID:UTC
BEGIN:STANDARD
TZOFFSETFROM:+0000
TZOFFSETTO:+0000
TZNAME:UTC
DTSTART:20150101T000000
END:STANDARD
END:VTIMEZONE
BEGIN:VEVENT
DTSTART;VALUE=DATE:20160605
DTEND;VALUE=DATE:20160606
DTSTAMP:20260423T101449
CREATED:20170928T123926Z
LAST-MODIFIED:20170928T123926Z
UID:2223-1465084800-1465171199@celebfc.co.uk
SUMMARY:SparksFooty 2016
DESCRIPTION:The second annual MC SPARKS Memorial Charity Football Match this year raised awareness & funds for two great small charities in Surrey – The Chris Donovan Trust and fellow Surrey Charity Scill. \nThe event took place at Sutton United F.C. on Sunday June 5th. \nThe #Chris Donovan Trust visits schools\, youth offending institutions and prisons and speak about their (Ray & VI\, parents to Chris Donovan) experiences\, as the victims of violent crime. This is done with the hope that they can prevent first time and repeat offending behaviour. They promote partnerships that empower victims to deal with a crime and raise awareness of the benefits of Restorative Justice and other victim programmes. \nSCILL It is an independent living centre promoting the principles of independent living\, choice and control for disabled people\, their carers and families. \n  \n  \nThank you to everyone who came along & enjoyed the day. \nSean certainly sent us the gorgeous weather :) \nClick here for pics from the day & evening 
URL:https://celebfc.co.uk/event/sparksfooty-2016/
LOCATION:Ipswich
CATEGORIES:Charity Football Match,Fun Day,Memory Cup,SparksFooty
END:VEVENT
BEGIN:VEVENT
DTSTART;TZID=UTC:20160522T080000
DTEND;TZID=UTC:20160522T170000
DTSTAMP:20260423T101449
CREATED:20170928T124715Z
LAST-MODIFIED:20170928T124715Z
UID:2226-1463904000-1463936400@celebfc.co.uk
SUMMARY:Charity Football v Tankerton FC for Kent Air Ambulance
DESCRIPTION:Celeb FC sponsored by Patriot Sports played in this great event for Kent Air Ambulance at Tankerton FC in Whitstable on May 22nd 2016. \n\n		\n		\n			\n				\n			\n			\n				\n			\n			\n				\n			\n			\n				\n			\n			\n				\n			\n			\n				\n			\n			\n				\n			\n			\n				\n			\n			\n				\n			\n		\n\nThe game\, ended in a 3-0 win for the CelebFCFamily \nClick here for some great photos from Rob Lamarr Media
URL:https://celebfc.co.uk/event/charity-football-v-tankerton-fc-for-kent-air-ambulance/
LOCATION:Tankerton FC
CATEGORIES:Charity Football Match,Fun Day,Sponsor
END:VEVENT
BEGIN:VEVENT
DTSTART;VALUE=DATE:20160508
DTEND;VALUE=DATE:20160509
DTSTAMP:20260423T101449
CREATED:20170928T130434Z
LAST-MODIFIED:20170928T130434Z
UID:2238-1462665600-1462751999@celebfc.co.uk
SUMMARY:Charity Football for The Dream Factory Essex
DESCRIPTION:Celeb FC played at this event at Dagenham and Redbridge Football Club on May 8th 2016. \n\n		\n		\n			\n				\n			\n			\n				\n			\n			\n				\n			\n			\n				\n			\n			\n				\n			\n			\n				\n			\n			\n				\n			\n			\n				\n			\n			\n				\n			\n			\n				\n			\n			\n				\n			\n			\n				\n			\n			\n				\n			\n			\n				\n			\n			\n				\n			\n			\n				\n			\n			\n				\n			\n			\n		\n\nWe were booked to play against our Teammate Tamer Hassan but due to a mix-up played a different side. \nHowever they put up a great fight & the game ended in a 3-2 win for the Celeb FC Family. Celeb FC Players on the day included – One of ENGLANDS finest Footballers – Ruel Fox – Garage Legend MC KIE – Channel 5 Supercasino Presenter Rob Lamarr – UK Garage / Clubland legend DJ Pied Piper Model Josh Crosswell – Mark Wright – The Apprentice UK – and many more. \nWe also had great friends attending to cheer us on Linda Lambert from Storage Hunters UK\, Nick Nevern & Mike Gabbitas – We took along the Celeb FC British Red Bus.com and our Mascots (watch out for some great pics of them with Lewis Bloor ) \nTo see more – Click Here 
URL:https://celebfc.co.uk/event/charity-football-for-the-dream-factory-essex/
LOCATION:Dagenham & Redbridge FC\, Victoria Road\, Dagenham\, RM10 7XL\, United Kingdom
CATEGORIES:Charity Football Match
END:VEVENT
END:VCALENDAR